BEGIN:VCALENDAR
VERSION:2.0
PRODID:-//hacksw/handcal//NONSGML v1.0//EN
BEGIN:VEVENT
SUMMARY:Assemblee Generale Karate et coupe Christian Levasseur
UID:e568fe8e-4588-4969-8b2b-547b1f4d795c
DTSTART:20260625T160000Z
DTEND:20260625T180000Z
LOCATION:Localisation Gymnase Municipal 76880 Arques La Bataille
CATEGORIES:Sportif
STATUS:
URL;VALUE=URI:https://www.karate-arques.com/evenements/2026/06/25/assemblee-generale-karate-et-coupe-christian-levasseur-2436325
END:VEVENT
END:VCALENDAR
