BEGIN:VCALENDAR
VERSION:2.0
PRODID:-//hacksw/handcal//NONSGML v1.0//EN
BEGIN:VEVENT
SUMMARY:Rencontre club de Namur (Belgique)
UID:939239ef-97d5-435e-8961-f610c93565b0
DTSTART:20260502T120000Z
DTEND:20260502T160000Z
LOCATION:Localisation Gymnase Municipal 76880 Arques La Bataille
CATEGORIES:Sportif
STATUS:
URL;VALUE=URI:https://www.karate-arques.com/evenements/2026/05/02/rencontre-club-de-namur-belgique-2436352
END:VEVENT
END:VCALENDAR
