BEGIN:VCALENDAR
VERSION:2.0
PRODID:-//hacksw/handcal//NONSGML v1.0//EN
BEGIN:VEVENT
SUMMARY:Coupe de Normandie
UID:37e116d7-3446-4142-a40c-54a661e74217
DTSTART:20260328T080000Z
DTEND:20260329T170000Z
LOCATION:Localisation Forges Les Eaux 76440 Forges les Eaux
CATEGORIES:Sportif
STATUS:
DESCRIPTION:<p>Coupe de Normandie</p>
URL;VALUE=URI:https://www.karate-arques.com/evenements/2026/03/28/coupe-de-normandie-2437816
END:VEVENT
END:VCALENDAR
